BEGIN:VCALENDAR
VERSION:2.0
PRODID:-//ChamberMaster//Event Calendar 2.0//EN
METHOD:PUBLISH
X-PUBLISHED-TTL:P1H
REFRESH-INTERVAL:P1H
CALSCALE:GREGORIAN
BEGIN:VTIMEZONE
TZID:America/Vancouver
BEGIN:DAYLIGHT
RRULE:FREQ=YEARLY;BYMONTH=3;BYDAY=2SU
DTSTART:20070101T000000
TZOFFSETFROM:-0800
TZOFFSETTO:-0700
TZNAME:Pacific Daylight Time
END:DAYLIGHT
BEGIN:STANDARD
RRULE:FREQ=YEARLY;BYMONTH=11;BYDAY=1SU
DTSTART:20070101T000000
TZOFFSETFROM:-0700
TZOFFSETTO:-0800
TZNAME:Pacific Standard Time
END:STANDARD
END:VTIMEZONE
BEGIN:VEVENT
DTSTART;TZID=America/Vancouver:20260514T110000
DTEND;TZID=America/Vancouver:20260514T120000
X-MICROSOFT-CDO-ALLDAYEVENT:FALSE
SUMMARY:Cybersecurity Risk Management for Residential Builders
DESCRIPTION:📅 Thursday\, May 14\, 2026\n📍CHBA CI - Boardroom\, 202-929 Laval Crescent\n⏰ 11:00 am to 12:00 pm\n🎓 1 CPD pointFor members onlyConstruction businesses increasingly depend on digital systems for project management\, permitting submissions\, payroll\, supplier payments\, and client communication. Cyber incidents such as phishing attacks\, email compromise\, ransomware\, and data breaches can disrupt operations\, delay projects\, impact cash flow\, and expose builders to contractual and privacy-related liabilities.\nThis session focused on the business implications of cybersecurity threats and how they affect operational continuity and financial planning.\nParticipants reviewed:\n  Common cyber risks targeting construction businesses\n  The operational and financial consequences of a breach\n  Legal and reputational exposure related to client and supplier data\n  Risk mitigation strategies appropriate for small and mid-sized construction companies\n  Foundational policies and response planning to protect business continuity By the end of this session\, participants were able to:Recognize cybersecurity threats as part of overall business risk managementIdentify areas of vulnerability within their construction operationsUnderstand the financial and legal implications of a cyber incidentImplement basic mitigation strategies to strengthen operational resilience
X-ALT-DESC;FMTTYPE=text/html:<!DOCTYPE html><html><head><title></title></head><body aria-disabled="false"><p><strong fr-original-style="" style="font-weight: 700\;">📅</strong> Thursday\, May 14\, 2026<br><strong fr-original-style="" style="font-weight: 700\;">📍</strong>CHBA CI - Boardroom\, 202-929 Laval Crescent<br>⏰ 11:00 am to 12:00 pm<br>🎓 1 CPD point</p><p><strong fr-original-style="" style="font-weight: 700\;">For members only</strong></p><p><span style='color: rgb(33\, 37\, 41)\; font-family: system-ui\, -apple-system\, "Segoe UI"\, Roboto\, "Helvetica Neue"\, "Noto Sans"\, "Liberation Sans"\, Arial\, sans-serif\, "Apple Color Emoji"\, "Segoe UI Emoji"\, "Segoe UI Symbol"\, "Noto Color Emoji"\; font-size: 16px\; font-style: normal\; font-variant-ligatures: normal\; font-variant-caps: normal\; font-weight: 400\; letter-spacing: normal\; orphans: 2\; text-align: start\; text-indent: 0px\; text-transform: none\; widows: 2\; word-spacing: 0px\; -webkit-text-stroke-width: 0px\; white-space: normal\; background-color: rgb(255\, 255\, 255)\; text-decoration-thickness: initial\; text-decoration-style: initial\; text-decoration-color: initial\; display: inline !important\; float: none\;'>Construction businesses increasingly depend on digital systems for project management\, permitting submissions\, payroll\, supplier payments\, and client communication. Cyber incidents such as phishing attacks\, email compromise\, ransomware\, and data breaches can disrupt operations\, delay projects\, impact cash flow\, and expose builders to contractual and privacy-related liabilities.</span><br style="box-sizing: border-box\; color: rgb(33\, 37\, 41)\; font-family: system-ui\, -apple-system\, &quot\;Segoe UI&quot\;\, Roboto\, &quot\;Helvetica Neue&quot\;\, &quot\;Noto Sans&quot\;\, &quot\;Liberation Sans&quot\;\, Arial\, sans-serif\, &quot\;Apple Color Emoji&quot\;\, &quot\;Segoe UI Emoji&quot\;\, &quot\;Segoe UI Symbol&quot\;\, &quot\;Noto Color Emoji&quot\;\; font-size: 16px\; font-style: normal\; font-variant-ligatures: normal\; font-variant-caps: normal\; font-weight: 400\; letter-spacing: normal\; orphans: 2\; text-align: start\; text-indent: 0px\; text-transform: none\; widows: 2\; word-spacing: 0px\; -webkit-text-stroke-width: 0px\; white-space: normal\; background-color: rgb(255\, 255\, 255)\; text-decoration-thickness: initial\; text-decoration-style: initial\; text-decoration-color: initial\;"><span style='color: rgb(33\, 37\, 41)\; font-family: system-ui\, -apple-system\, "Segoe UI"\, Roboto\, "Helvetica Neue"\, "Noto Sans"\, "Liberation Sans"\, Arial\, sans-serif\, "Apple Color Emoji"\, "Segoe UI Emoji"\, "Segoe UI Symbol"\, "Noto Color Emoji"\; font-size: 16px\; font-style: normal\; font-variant-ligatures: normal\; font-variant-caps: normal\; font-weight: 400\; letter-spacing: normal\; orphans: 2\; text-align: start\; text-indent: 0px\; text-transform: none\; widows: 2\; word-spacing: 0px\; -webkit-text-stroke-width: 0px\; white-space: normal\; background-color: rgb(255\, 255\, 255)\; text-decoration-thickness: initial\; text-decoration-style: initial\; text-decoration-color: initial\; display: inline !important\; float: none\;'>This session focused on the business implications of cybersecurity threats and how they affect operational continuity and financial planning.</span><br style="box-sizing: border-box\; color: rgb(33\, 37\, 41)\; font-family: system-ui\, -apple-system\, &quot\;Segoe UI&quot\;\, Roboto\, &quot\;Helvetica Neue&quot\;\, &quot\;Noto Sans&quot\;\, &quot\;Liberation Sans&quot\;\, Arial\, sans-serif\, &quot\;Apple Color Emoji&quot\;\, &quot\;Segoe UI Emoji&quot\;\, &quot\;Segoe UI Symbol&quot\;\, &quot\;Noto Color Emoji&quot\;\; font-size: 16px\; font-style: normal\; font-variant-ligatures: normal\; font-variant-caps: normal\; font-weight: 400\; letter-spacing: normal\; orphans: 2\; text-align: start\; text-indent: 0px\; text-transform: none\; widows: 2\; word-spacing: 0px\; -webkit-text-stroke-width: 0px\; white-space: normal\; background-color: rgb(255\, 255\, 255)\; text-decoration-thickness: initial\; text-decoration-style: initial\; text-decoration-color: initial\;"><span style='color: rgb(33\, 37\, 41)\; font-family: system-ui\, -apple-system\, "Segoe UI"\, Roboto\, "Helvetica Neue"\, "Noto Sans"\, "Liberation Sans"\, Arial\, sans-serif\, "Apple Color Emoji"\, "Segoe UI Emoji"\, "Segoe UI Symbol"\, "Noto Color Emoji"\; font-size: 16px\; font-style: normal\; font-variant-ligatures: normal\; font-variant-caps: normal\; font-weight: 400\; letter-spacing: normal\; orphans: 2\; text-align: start\; text-indent: 0px\; text-transform: none\; widows: 2\; word-spacing: 0px\; -webkit-text-stroke-width: 0px\; white-space: normal\; background-color: rgb(255\, 255\, 255)\; text-decoration-thickness: initial\; text-decoration-style: initial\; text-decoration-color: initial\; display: inline !important\; float: none\;'>Participants reviewed:</span><br style="box-sizing: border-box\; color: rgb(33\, 37\, 41)\; font-family: system-ui\, -apple-system\, &quot\;Segoe UI&quot\;\, Roboto\, &quot\;Helvetica Neue&quot\;\, &quot\;Noto Sans&quot\;\, &quot\;Liberation Sans&quot\;\, Arial\, sans-serif\, &quot\;Apple Color Emoji&quot\;\, &quot\;Segoe UI Emoji&quot\;\, &quot\;Segoe UI Symbol&quot\;\, &quot\;Noto Color Emoji&quot\;\; font-size: 16px\; font-style: normal\; font-variant-ligatures: normal\; font-variant-caps: normal\; font-weight: 400\; letter-spacing: normal\; orphans: 2\; text-align: start\; text-indent: 0px\; text-transform: none\; widows: 2\; word-spacing: 0px\; -webkit-text-stroke-width: 0px\; white-space: normal\; background-color: rgb(255\, 255\, 255)\; text-decoration-thickness: initial\; text-decoration-style: initial\; text-decoration-color: initial\;"><span style='color: rgb(33\, 37\, 41)\; font-family: system-ui\, -apple-system\, "Segoe UI"\, Roboto\, "Helvetica Neue"\, "Noto Sans"\, "Liberation Sans"\, Arial\, sans-serif\, "Apple Color Emoji"\, "Segoe UI Emoji"\, "Segoe UI Symbol"\, "Noto Color Emoji"\; font-size: 16px\; font-style: normal\; font-variant-ligatures: normal\; font-variant-caps: normal\; font-weight: 400\; letter-spacing: normal\; orphans: 2\; text-align: start\; text-indent: 0px\; text-transform: none\; widows: 2\; word-spacing: 0px\; -webkit-text-stroke-width: 0px\; white-space: normal\; background-color: rgb(255\, 255\, 255)\; text-decoration-thickness: initial\; text-decoration-style: initial\; text-decoration-color: initial\; display: inline !important\; float: none\;'>&bull\; Common cyber risks targeting construction businesses</span><br style="box-sizing: border-box\; color: rgb(33\, 37\, 41)\; font-family: system-ui\, -apple-system\, &quot\;Segoe UI&quot\;\, Roboto\, &quot\;Helvetica Neue&quot\;\, &quot\;Noto Sans&quot\;\, &quot\;Liberation Sans&quot\;\, Arial\, sans-serif\, &quot\;Apple Color Emoji&quot\;\, &quot\;Segoe UI Emoji&quot\;\, &quot\;Segoe UI Symbol&quot\;\, &quot\;Noto Color Emoji&quot\;\; font-size: 16px\; font-style: normal\; font-variant-ligatures: normal\; font-variant-caps: normal\; font-weight: 400\; letter-spacing: normal\; orphans: 2\; text-align: start\; text-indent: 0px\; text-transform: none\; widows: 2\; word-spacing: 0px\; -webkit-text-stroke-width: 0px\; white-space: normal\; background-color: rgb(255\, 255\, 255)\; text-decoration-thickness: initial\; text-decoration-style: initial\; text-decoration-color: initial\;"><span style='color: rgb(33\, 37\, 41)\; font-family: system-ui\, -apple-system\, "Segoe UI"\, Roboto\, "Helvetica Neue"\, "Noto Sans"\, "Liberation Sans"\, Arial\, sans-serif\, "Apple Color Emoji"\, "Segoe UI Emoji"\, "Segoe UI Symbol"\, "Noto Color Emoji"\; font-size: 16px\; font-style: normal\; font-variant-ligatures: normal\; font-variant-caps: normal\; font-weight: 400\; letter-spacing: normal\; orphans: 2\; text-align: start\; text-indent: 0px\; text-transform: none\; widows: 2\; word-spacing: 0px\; -webkit-text-stroke-width: 0px\; white-space: normal\; background-color: rgb(255\, 255\, 255)\; text-decoration-thickness: initial\; text-decoration-style: initial\; text-decoration-color: initial\; display: inline !important\; float: none\;'>&bull\; The operational and financial consequences of a breach</span><br style="box-sizing: border-box\; color: rgb(33\, 37\, 41)\; font-family: system-ui\, -apple-system\, &quot\;Segoe UI&quot\;\, Roboto\, &quot\;Helvetica Neue&quot\;\, &quot\;Noto Sans&quot\;\, &quot\;Liberation Sans&quot\;\, Arial\, sans-serif\, &quot\;Apple Color Emoji&quot\;\, &quot\;Segoe UI Emoji&quot\;\, &quot\;Segoe UI Symbol&quot\;\, &quot\;Noto Color Emoji&quot\;\; font-size: 16px\; font-style: normal\; font-variant-ligatures: normal\; font-variant-caps: normal\; font-weight: 400\; letter-spacing: normal\; orphans: 2\; text-align: start\; text-indent: 0px\; text-transform: none\; widows: 2\; word-spacing: 0px\; -webkit-text-stroke-width: 0px\; white-space: normal\; background-color: rgb(255\, 255\, 255)\; text-decoration-thickness: initial\; text-decoration-style: initial\; text-decoration-color: initial\;"><span style='color: rgb(33\, 37\, 41)\; font-family: system-ui\, -apple-system\, "Segoe UI"\, Roboto\, "Helvetica Neue"\, "Noto Sans"\, "Liberation Sans"\, Arial\, sans-serif\, "Apple Color Emoji"\, "Segoe UI Emoji"\, "Segoe UI Symbol"\, "Noto Color Emoji"\; font-size: 16px\; font-style: normal\; font-variant-ligatures: normal\; font-variant-caps: normal\; font-weight: 400\; letter-spacing: normal\; orphans: 2\; text-align: start\; text-indent: 0px\; text-transform: none\; widows: 2\; word-spacing: 0px\; -webkit-text-stroke-width: 0px\; white-space: normal\; background-color: rgb(255\, 255\, 255)\; text-decoration-thickness: initial\; text-decoration-style: initial\; text-decoration-color: initial\; display: inline !important\; float: none\;'>&bull\; Legal and reputational exposure related to client and supplier data</span><br style="box-sizing: border-box\; color: rgb(33\, 37\, 41)\; font-family: system-ui\, -apple-system\, &quot\;Segoe UI&quot\;\, Roboto\, &quot\;Helvetica Neue&quot\;\, &quot\;Noto Sans&quot\;\, &quot\;Liberation Sans&quot\;\, Arial\, sans-serif\, &quot\;Apple Color Emoji&quot\;\, &quot\;Segoe UI Emoji&quot\;\, &quot\;Segoe UI Symbol&quot\;\, &quot\;Noto Color Emoji&quot\;\; font-size: 16px\; font-style: normal\; font-variant-ligatures: normal\; font-variant-caps: normal\; font-weight: 400\; letter-spacing: normal\; orphans: 2\; text-align: start\; text-indent: 0px\; text-transform: none\; widows: 2\; word-spacing: 0px\; -webkit-text-stroke-width: 0px\; white-space: normal\; background-color: rgb(255\, 255\, 255)\; text-decoration-thickness: initial\; text-decoration-style: initial\; text-decoration-color: initial\;"><span style='color: rgb(33\, 37\, 41)\; font-family: system-ui\, -apple-system\, "Segoe UI"\, Roboto\, "Helvetica Neue"\, "Noto Sans"\, "Liberation Sans"\, Arial\, sans-serif\, "Apple Color Emoji"\, "Segoe UI Emoji"\, "Segoe UI Symbol"\, "Noto Color Emoji"\; font-size: 16px\; font-style: normal\; font-variant-ligatures: normal\; font-variant-caps: normal\; font-weight: 400\; letter-spacing: normal\; orphans: 2\; text-align: start\; text-indent: 0px\; text-transform: none\; widows: 2\; word-spacing: 0px\; -webkit-text-stroke-width: 0px\; white-space: normal\; background-color: rgb(255\, 255\, 255)\; text-decoration-thickness: initial\; text-decoration-style: initial\; text-decoration-color: initial\; display: inline !important\; float: none\;'>&bull\; Risk mitigation strategies appropriate for small and mid-sized construction companies</span><br style="box-sizing: border-box\; color: rgb(33\, 37\, 41)\; font-family: system-ui\, -apple-system\, &quot\;Segoe UI&quot\;\, Roboto\, &quot\;Helvetica Neue&quot\;\, &quot\;Noto Sans&quot\;\, &quot\;Liberation Sans&quot\;\, Arial\, sans-serif\, &quot\;Apple Color Emoji&quot\;\, &quot\;Segoe UI Emoji&quot\;\, &quot\;Segoe UI Symbol&quot\;\, &quot\;Noto Color Emoji&quot\;\; font-size: 16px\; font-style: normal\; font-variant-ligatures: normal\; font-variant-caps: normal\; font-weight: 400\; letter-spacing: normal\; orphans: 2\; text-align: start\; text-indent: 0px\; text-transform: none\; widows: 2\; word-spacing: 0px\; -webkit-text-stroke-width: 0px\; white-space: normal\; background-color: rgb(255\, 255\, 255)\; text-decoration-thickness: initial\; text-decoration-style: initial\; text-decoration-color: initial\;"><span style='color: rgb(33\, 37\, 41)\; font-family: system-ui\, -apple-system\, "Segoe UI"\, Roboto\, "Helvetica Neue"\, "Noto Sans"\, "Liberation Sans"\, Arial\, sans-serif\, "Apple Color Emoji"\, "Segoe UI Emoji"\, "Segoe UI Symbol"\, "Noto Color Emoji"\; font-size: 16px\; font-style: normal\; font-variant-ligatures: normal\; font-variant-caps: normal\; font-weight: 400\; letter-spacing: normal\; orphans: 2\; text-align: start\; text-indent: 0px\; text-transform: none\; widows: 2\; word-spacing: 0px\; -webkit-text-stroke-width: 0px\; white-space: normal\; background-color: rgb(255\, 255\, 255)\; text-decoration-thickness: initial\; text-decoration-style: initial\; text-decoration-color: initial\; display: inline !important\; float: none\;'>&bull\; Foundational policies and response planning to protect business continuity</span>&nbsp\;</p><p><span style='color: rgb(33\, 37\, 41)\; font-family: system-ui\, -apple-system\, "Segoe UI"\, Roboto\, "Helvetica Neue"\, "Noto Sans"\, "Liberation Sans"\, Arial\, sans-serif\, "Apple Color Emoji"\, "Segoe UI Emoji"\, "Segoe UI Symbol"\, "Noto Color Emoji"\; font-size: 16px\; font-style: normal\; font-variant-ligatures: normal\; font-variant-caps: normal\; font-weight: 400\; letter-spacing: normal\; orphans: 2\; text-align: start\; text-indent: 0px\; text-transform: none\; widows: 2\; word-spacing: 0px\; -webkit-text-stroke-width: 0px\; white-space: normal\; background-color: rgb(255\, 255\, 255)\; text-decoration-thickness: initial\; text-decoration-style: initial\; text-decoration-color: initial\; display: inline !important\; float: none\;'>By the end of this session\, participants were able to:</span></p><ol fr-original-style='box-sizing: border-box\; padding-left: 2rem\; margin-top: 0px\; margin-bottom: 1rem\; color: rgb(33\, 37\, 41)\; font-family: system-ui\, -apple-system\, "Segoe UI"\, Roboto\, "Helvetica Neue"\, "Noto Sans"\, "Liberation Sans"\, Arial\, sans-serif\, "Apple Color Emoji"\, "Segoe UI Emoji"\, "Segoe UI Symbol"\, "Noto Color Emoji"\; font-size: 16px\; font-style: normal\; font-variant-ligatures: normal\; font-variant-caps: normal\; font-weight: 400\; letter-spacing: normal\; orphans: 2\; text-align: start\; text-indent: 0px\; text-transform: none\; widows: 2\; word-spacing: 0px\; -webkit-text-stroke-width: 0px\; white-space: normal\; background-color: rgb(255\, 255\, 255)\; text-decoration-thickness: initial\; text-decoration-style: initial\; text-decoration-color: initial\;' start="1" style='box-sizing: border-box\; padding-left: 2rem\; margin-top: 0px\; margin-bottom: 1rem\; color: rgb(33\, 37\, 41)\; font-family: system-ui\, -apple-system\, "Segoe UI"\, Roboto\, "Helvetica Neue"\, "Noto Sans"\, "Liberation Sans"\, Arial\, sans-serif\, "Apple Color Emoji"\, "Segoe UI Emoji"\, "Segoe UI Symbol"\, "Noto Color Emoji"\; font-size: 16px\; font-style: normal\; font-variant-ligatures: normal\; font-variant-caps: normal\; font-weight: 400\; letter-spacing: normal\; orphans: 2\; text-align: start\; text-indent: 0px\; text-transform: none\; widows: 2\; word-spacing: 0px\; -webkit-text-stroke-width: 0px\; white-space: normal\; background-color: rgb(255\, 255\, 255)\; text-decoration-thickness: initial\; text-decoration-style: initial\; text-decoration-color: initial\; list-style-position: inside\;'><li style="box-sizing: border-box\;">Recognize cybersecurity threats as part of overall business risk management</li><li style="box-sizing: border-box\;">Identify areas of vulnerability within their construction operations</li><li style="box-sizing: border-box\;">Understand the financial and legal implications of a cyber incident</li><li style="box-sizing: border-box\;">Implement basic mitigation strategies to strengthen operational resilience</li></ol></body></html>
LOCATION:#202-929 Laval Crescent Kamloops BC V2C5P4
UID:e.2407.1442835
SEQUENCE:3
DTSTAMP:20260422T050526Z
URL:https://members.chbaci.ca/events/Details/cybersecurity-risk-management-for-residential-builders-1708963?sourceTypeId=Hub
END:VEVENT
END:VCALENDAR
